BEGIN:VCALENDAR
VERSION:2.0
PRODID:-//wp-events-plugin.com//7.2.3.1//EN
TZID:America/New_York
X-WR-TIMEZONE:America/New_York
BEGIN:VEVENT
UID:99@laigw.org
DTSTART;TZID=America/New_York:20260429T110000
DTEND;TZID=America/New_York:20260429T133000
DTSTAMP:20260415T094124Z
URL:https://www.laigw.org/events/april-29-luncheon-program-toward-a-safer-
 better-and-smarter-monumental-core-a-proposed-framework/
SUMMARY:April 29 - Luncheon Program - Toward a Safer\, Better and Smarter M
 onumental Core: A Proposed Framework
DESCRIPTION:\n\n&nbsp\;\n\nNETWORKING LUNCHEON\n\nToward a Safer\, Better a
 nd Smarter Monumental Core: A Proposed Framework\n\nJoin the George Washin
 gton Chapter of Lambda Alpha International (LAIGW) for an engaging discuss
 ion on shaping the next century of Washington’s Monumental Core\, led by
  James Snyder\, Former Director of Planning and Economic Development\, Cit
 y of Falls Church\, Lu Hou\, Principal in Urban Design\, Cityscapes Associ
 ates International\, and John Dugan\, FAICP\, Former Director of Long-Rang
 e Planning\, NCPC.\n\nAs the United States approaches its 250th anniversar
 y\, a once-in-a-generation opportunity is emerging in the heart of Washing
 ton\, D.C.\, one that could redefine the future of the Monumental Core for
  decades to come. This timely and thought-provoking presentation explores 
 the transformative potential of underutilized federal properties south of 
 the National Mall.\n\nRather than viewing these sites as surplus assets\, 
 the discussion reframes them as powerful catalysts for innovation\, civic 
 identity\, and national legacy. Attendees will gain valuable insight into 
 the planning\, design\, financing\, and policy considerations shaping larg
 e-scale federal redevelopment\, including public-private partnerships\, ad
 aptive reuse strategies\, and forward-thinking infrastructure solutions.\n
 \nDon’t miss this opportunity to be part of an important conversation ab
 out the future of the nation’s capital.\n\n→ Register Here: Toward a S
 afer\, Better and Smarter Monumental Core: A Proposed Framework\n\n&nbsp\;
 \n\n\n\nNote New Location\n\nFox Rothschild LLP\n\n2020 K Street NW\n\nWas
 hington DC 20006\n\nLower-level conference room\n\nAgenda Update and Netwo
 rking Focus\n\nWe adjusted our LAIGW luncheon format in response to member
  feedback that emphasized the importance of meaningful connection and more
  time for informal networking. By beginning the program earlier\, we are c
 reating dedicated time after the presentation for lunch and informal netwo
 rking\, allowing conversations to continue and relationships to develop in
  a more relaxed setting. Please stay after the main program to discuss wit
 h the speaker\, other members and guests with this change in agenda line-u
 p.\n\n11:00 am – Check in begins with the registration desk for name bad
 ges\n11:30 am – Program Welcome and Introductions\, followed by formal p
 resentation and Q&amp\;A\n12:30 pm –Program concludes with lunch and net
 working\n1:30 pm – Event concludes\nPlease enjoy a variety of sandwiches
 \, salad\, water/soda\, and cookies while informally networking after the 
 main presentation.\n\nTickets\n\n$0 – Current / Paid Members\n\n$35 – 
 Guests (non-members)\n\nPlease note that if a registered current member do
 es not attend\, a no-show fee of $35 will be charged.\n\nMembership Renewa
 l Reminder\n\nALL MEMBERS must renew their annual membership in April to b
 e a paid-up member. Please be sure to renew your membership to the LAI GW 
 Chapter here: www.lai.org\n\nThank you for renewing your membership prior 
 to registering for this event.\n\nTransportation/Parking\n\nClosest Metro:
  Farragut North(RD) or Farragut West (OR/SV/BL)\n\nParking: There are park
 ing garages available nearby.\n\n
CATEGORIES:Events
LOCATION:Fox Rothschild LLP\, 2020 K Street NW\, Washington\, DC\, DC\, 200
 06\, 
X-APPLE-STRUCTURED-LOCATION;VALUE=URI;X-ADDRESS=2020 K Street NW\, Washingt
 on\, DC\, DC\, 20006\, ;X-APPLE-RADIUS=100;X-TITLE=Fox Rothschild LLP:geo:
 0,0
END:VEVENT
BEGIN:VTIMEZONE
TZID:America/New_York
X-LIC-LOCATION:America/New_York
BEGIN:DAYLIGHT
DTSTART:20260308T030000
TZOFFSETFROM:-0500
TZOFFSETTO:-0400
TZNAME:EDT
END:DAYLIGHT
END:VTIMEZONE
END:VCALENDAR